Package: beadarray Version: 2.57.0 Command: /Library/Frameworks/R.framework/Resources/bin/R CMD INSTALL beadarray StartedAt: 2025-01-31 15:10:07 -0500 (Fri, 31 Jan 2025) EndedAt: 2025-01-31 15:10:16 -0500 (Fri, 31 Jan 2025) EllapsedTime: 9.7 seconds RetCode: 0 Status: OK