Package: beadarray Version: 2.57.0 Command: /Library/Frameworks/R.framework/Resources/bin/R CMD check --install=check:beadarray.install-out.txt --library=/Library/Frameworks/R.framework/Resources/library --no-vignettes --timings beadarray_2.57.0.tar.gz StartedAt: 2025-01-31 18:12:25 -0500 (Fri, 31 Jan 2025) EndedAt: 2025-01-31 18:15:10 -0500 (Fri, 31 Jan 2025) EllapsedTime: 165.0 seconds RetCode: 0 Status: OK CheckDir: beadarray.Rcheck Warnings: 0