Package: beadarray Version: 2.57.0 Command: /Library/Frameworks/R.framework/Resources/bin/R CMD build --keep-empty-dirs --no-resave-data beadarray StartedAt: 2025-01-31 15:37:46 -0500 (Fri, 31 Jan 2025) EndedAt: 2025-01-31 15:38:51 -0500 (Fri, 31 Jan 2025) EllapsedTime: 65.7 seconds RetCode: 0 Status: OK PackageFile: beadarray_2.57.0.tar.gz PackageFileSize: 4.294 MiB