Package: bayNorm Version: 1.25.0 Command: E:\biocbuild\bbs-3.21-bioc\R\bin\R.exe CMD check --no-multiarch --install=check:bayNorm.install-out.txt --library=E:\biocbuild\bbs-3.21-bioc\R\library --no-vignettes --timings bayNorm_1.25.0.tar.gz StartedAt: 2025-01-31 22:33:35 -0500 (Fri, 31 Jan 2025) EndedAt: 2025-01-31 22:37:01 -0500 (Fri, 31 Jan 2025) EllapsedTime: 205.6 seconds RetCode: 0 Status: OK CheckDir: bayNorm.Rcheck Warnings: 0