Package: bayNorm Version: 1.25.0 Command: chmod a+r bayNorm -R && E:\biocbuild\bbs-3.21-bioc\R\bin\R.exe CMD build --keep-empty-dirs --no-resave-data bayNorm StartedAt: 2025-01-31 17:14:40 -0500 (Fri, 31 Jan 2025) EndedAt: 2025-01-31 17:16:06 -0500 (Fri, 31 Jan 2025) EllapsedTime: 86.2 seconds RetCode: 0 Status: OK PackageFile: bayNorm_1.25.0.tar.gz PackageFileSize: 1.526 MiB