Package: bayNorm Version: 1.25.0 Command: /Library/Frameworks/R.framework/Resources/bin/R CMD build --keep-empty-dirs --no-resave-data bayNorm StartedAt: 2025-01-31 15:59:03 -0500 (Fri, 31 Jan 2025) EndedAt: 2025-01-31 16:00:05 -0500 (Fri, 31 Jan 2025) EllapsedTime: 61.6 seconds RetCode: 0 Status: OK PackageFile: bayNorm_1.25.0.tar.gz PackageFileSize: 1.526 MiB