Package: batchelor Version: 1.23.0 Command: /Library/Frameworks/R.framework/Resources/bin/R CMD build --keep-empty-dirs --no-resave-data batchelor StartedAt: 2025-01-31 15:58:42 -0500 (Fri, 31 Jan 2025) EndedAt: 2025-01-31 16:01:48 -0500 (Fri, 31 Jan 2025) EllapsedTime: 186.0 seconds RetCode: 0 Status: OK PackageFile: batchelor_1.23.0.tar.gz PackageFileSize: 2.059 MiB