Package: basilisk Version: 1.19.0 Command: /home/biocbuild/bbs-3.21-bioc/R/bin/R CMD build --keep-empty-dirs --no-resave-data basilisk StartedAt: 2025-01-31 16:17:15 -0500 (Fri, 31 Jan 2025) EndedAt: 2025-01-31 16:19:57 -0500 (Fri, 31 Jan 2025) EllapsedTime: 162.1 seconds RetCode: 0 Status: OK PackageFile: basilisk_1.19.0.tar.gz PackageFileSize: 263.6 KiB