Package: banocc Version: 1.31.0 Command: rm -rf banocc.buildbin-libdir && mkdir banocc.buildbin-libdir && E:\biocbuild\bbs-3.21-bioc\R\bin\R.exe CMD INSTALL --build --library=banocc.buildbin-libdir banocc_1.31.0.tar.gz StartedAt: 2025-02-01 06:42:45 -0500 (Sat, 01 Feb 2025) EndedAt: 2025-02-01 06:43:09 -0500 (Sat, 01 Feb 2025) EllapsedTime: 23.6 seconds RetCode: 0 Status: OK PackageFile: banocc_1.31.0.zip PackageFileSize: 1.081 MiB