############################################################################## ############################################################################## ### ### Running command: ### ### /home/biocbuild/bbs-3.21-bioc/R/bin/R CMD INSTALL bandle ### ############################################################################## ############################################################################## * installing to library ‘/home/biocbuild/bbs-3.21-bioc/R/site-library’ * installing *source* package ‘bandle’ ... ** this is package ‘bandle’ version ‘1.11.0’ ** using staged installation ** libs using C++ compiler: ‘g++ (Ubuntu 13.3.0-6ubuntu2~24.04) 13.3.0’ using C++14 g++ -std=gnu++14 -I"/home/biocbuild/bbs-3.21-bioc/R/include" -DNDEBUG -I'/home/biocbuild/bbs-3.21-bioc/R/site-library/Rcpp/include' -I'/home/biocbuild/bbs-3.21-bioc/R/site-library/RcppArmadillo/include' -I'/home/biocbuild/bbs-3.21-bioc/R/site-library/BH/include' -I/usr/local/include -fopenmp -fpic -g -O2 -DR_NO_REMAP -c Bessel2ndKind.cpp -o Bessel2ndKind.o g++ -std=gnu++14 -I"/home/biocbuild/bbs-3.21-bioc/R/include" -DNDEBUG -I'/home/biocbuild/bbs-3.21-bioc/R/site-library/Rcpp/include' -I'/home/biocbuild/bbs-3.21-bioc/R/site-library/RcppArmadillo/include' -I'/home/biocbuild/bbs-3.21-bioc/R/site-library/BH/include' -I/usr/local/include -fopenmp -fpic -g -O2 -DR_NO_REMAP -c RcppExports.cpp -o RcppExports.o g++ -std=gnu++14 -I"/home/biocbuild/bbs-3.21-bioc/R/include" -DNDEBUG -I'/home/biocbuild/bbs-3.21-bioc/R/site-library/Rcpp/include' -I'/home/biocbuild/bbs-3.21-bioc/R/site-library/RcppArmadillo/include' -I'/home/biocbuild/bbs-3.21-bioc/R/site-library/BH/include' -I/usr/local/include -fopenmp -fpic -g -O2 -DR_NO_REMAP -c dmvtCpp.cpp -o dmvtCpp.o g++ -std=gnu++14 -I"/home/biocbuild/bbs-3.21-bioc/R/include" -DNDEBUG -I'/home/biocbuild/bbs-3.21-bioc/R/site-library/Rcpp/include' -I'/home/biocbuild/bbs-3.21-bioc/R/site-library/RcppArmadillo/include' -I'/home/biocbuild/bbs-3.21-bioc/R/site-library/BH/include' -I/usr/local/include -fopenmp -fpic -g -O2 -DR_NO_REMAP -c leapfrogGPcpp.cpp -o leapfrogGPcpp.o g++ -std=gnu++14 -I"/home/biocbuild/bbs-3.21-bioc/R/include" -DNDEBUG -I'/home/biocbuild/bbs-3.21-bioc/R/site-library/Rcpp/include' -I'/home/biocbuild/bbs-3.21-bioc/R/site-library/RcppArmadillo/include' -I'/home/biocbuild/bbs-3.21-bioc/R/site-library/BH/include' -I/usr/local/include -fopenmp -fpic -g -O2 -DR_NO_REMAP -c pg_sample.cpp -o pg_sample.o g++ -std=gnu++14 -shared -L/home/biocbuild/bbs-3.21-bioc/R/lib -L/usr/local/lib -o bandle.so Bessel2ndKind.o RcppExports.o dmvtCpp.o leapfrogGPcpp.o pg_sample.o -fopenmp -llapack -L/home/biocbuild/bbs-3.21-bioc/R/lib -lRblas -lgfortran -lm -lquadmath -L/home/biocbuild/bbs-3.21-bioc/R/lib -lR installing to /home/biocbuild/bbs-3.21-bioc/R/site-library/00LOCK-bandle/00new/bandle/libs ** R ** inst ** byte-compile and prepare package for lazy loading Creating a generic function from function ‘posteriorEstimates’ in package ‘bandle’ Creating a generic function from function ‘bandleJoint’ in package ‘bandle’ ** help *** installing help indices ** building package indices ** installing vignettes ** testing if installed package can be loaded from temporary location ** checking absolute paths in shared objects and dynamic libraries ** testing if installed package can be loaded from final location ** testing if installed package keeps a record of temporary installation path * DONE (bandle)