Package: bandle Version: 1.11.0 Maintainer: Oliver M. Crook MaintainerEmail: oliver.crook at stats.ox.ac.uk git_url: https://git.bioconductor.org/packages/bandle git_branch: devel git_last_commit: e8f7aaa git_last_commit_date: 2025-01-27 13:02:06 -0500 (Mon, 27 Jan 2025)