Package: bamsignals Version: 1.39.0 Command: E:\biocbuild\bbs-3.21-bioc\R\bin\R.exe CMD INSTALL bamsignals StartedAt: 2025-01-31 15:34:52 -0500 (Fri, 31 Jan 2025) EndedAt: 2025-01-31 15:35:31 -0500 (Fri, 31 Jan 2025) EllapsedTime: 39.1 seconds RetCode: 0 Status: OK