Package: bambu Version: 3.9.1 Command: E:\biocbuild\bbs-3.21-bioc\R\bin\R.exe CMD INSTALL bambu StartedAt: 2025-01-31 16:03:54 -0500 (Fri, 31 Jan 2025) EndedAt: 2025-01-31 16:05:29 -0500 (Fri, 31 Jan 2025) EllapsedTime: 95.2 seconds RetCode: 0 Status: OK