Package: bambu Version: 3.9.1 Command: rm -rf bambu.buildbin-libdir && mkdir bambu.buildbin-libdir && E:\biocbuild\bbs-3.21-bioc\R\bin\R.exe CMD INSTALL --build --library=bambu.buildbin-libdir bambu_3.9.1.tar.gz StartedAt: 2025-02-01 06:42:32 -0500 (Sat, 01 Feb 2025) EndedAt: 2025-02-01 06:44:25 -0500 (Sat, 01 Feb 2025) EllapsedTime: 113.5 seconds RetCode: 0 Status: OK PackageFile: bambu_3.9.1.zip PackageFileSize: 2.141 MiB