Package: bambu Version: 3.9.1 Command: /home/biocbuild/bbs-3.21-bioc/R/bin/R CMD INSTALL bambu StartedAt: 2025-01-31 15:27:32 -0500 (Fri, 31 Jan 2025) EndedAt: 2025-01-31 15:28:29 -0500 (Fri, 31 Jan 2025) EllapsedTime: 57.3 seconds RetCode: 0 Status: OK