Package: arrayQualityMetrics Version: 3.63.0 Command: E:\biocbuild\bbs-3.21-bioc\R\bin\R.exe CMD check --no-multiarch --install=check:arrayQualityMetrics.install-out.txt --library=E:\biocbuild\bbs-3.21-bioc\R\library --no-vignettes --timings arrayQualityMetrics_3.63.0.tar.gz StartedAt: 2025-01-31 22:23:16 -0500 (Fri, 31 Jan 2025) EndedAt: 2025-01-31 22:26:17 -0500 (Fri, 31 Jan 2025) EllapsedTime: 180.4 seconds RetCode: 0 Status: OK CheckDir: arrayQualityMetrics.Rcheck Warnings: 0