Package: arrayQualityMetrics Version: 3.63.0 Command: chmod a+r arrayQualityMetrics -R && E:\biocbuild\bbs-3.21-bioc\R\bin\R.exe CMD build --keep-empty-dirs --no-resave-data arrayQualityMetrics StartedAt: 2025-01-31 17:09:04 -0500 (Fri, 31 Jan 2025) EndedAt: 2025-01-31 17:17:17 -0500 (Fri, 31 Jan 2025) EllapsedTime: 493.0 seconds RetCode: 0 Status: OK PackageFile: arrayQualityMetrics_3.63.0.tar.gz PackageFileSize: 597.5 KiB