Package: apComplex Version: 2.73.0 Command: /Library/Frameworks/R.framework/Resources/bin/R CMD INSTALL apComplex StartedAt: 2025-01-31 15:09:57 -0500 (Fri, 31 Jan 2025) EndedAt: 2025-01-31 15:10:02 -0500 (Fri, 31 Jan 2025) EllapsedTime: 5.6 seconds RetCode: 0 Status: OK