Package: anota2seq Version: 1.29.0 Command: /Library/Frameworks/R.framework/Resources/bin/R CMD build --keep-empty-dirs --no-resave-data anota2seq StartedAt: 2025-01-31 15:55:06 -0500 (Fri, 31 Jan 2025) EndedAt: 2025-01-31 15:57:41 -0500 (Fri, 31 Jan 2025) EllapsedTime: 155.6 seconds RetCode: 0 Status: OK PackageFile: anota2seq_1.29.0.tar.gz PackageFileSize: 970.6 KiB