Package: annaffy Version: 1.79.0 Command: /Library/Frameworks/R.framework/Resources/bin/R CMD INSTALL annaffy StartedAt: 2025-01-31 15:16:03 -0500 (Fri, 31 Jan 2025) EndedAt: 2025-01-31 15:16:27 -0500 (Fri, 31 Jan 2025) EllapsedTime: 24.6 seconds RetCode: 0 Status: OK