Package: animalcules Version: 1.23.0 Command: /Library/Frameworks/R.framework/Resources/bin/R CMD build --keep-empty-dirs --no-resave-data animalcules StartedAt: 2025-01-31 15:54:33 -0500 (Fri, 31 Jan 2025) EndedAt: 2025-01-31 15:55:43 -0500 (Fri, 31 Jan 2025) EllapsedTime: 70.0 seconds RetCode: 0 Status: OK PackageFile: animalcules_1.23.0.tar.gz PackageFileSize: 3.324 MiB