Package: altcdfenvs Version: 2.69.0 Command: E:\biocbuild\bbs-3.21-bioc\R\bin\R.exe CMD INSTALL altcdfenvs StartedAt: 2025-01-31 15:36:34 -0500 (Fri, 31 Jan 2025) EndedAt: 2025-01-31 15:37:15 -0500 (Fri, 31 Jan 2025) EllapsedTime: 41.8 seconds RetCode: 0 Status: OK