Package: altcdfenvs Version: 2.69.0 Command: chmod a+r altcdfenvs -R && E:\biocbuild\bbs-3.21-bioc\R\bin\R.exe CMD build --keep-empty-dirs --no-resave-data altcdfenvs StartedAt: 2025-01-31 17:05:38 -0500 (Fri, 31 Jan 2025) EndedAt: 2025-01-31 17:07:07 -0500 (Fri, 31 Jan 2025) EllapsedTime: 88.5 seconds RetCode: 0 Status: OK PackageFile: altcdfenvs_2.69.0.tar.gz PackageFileSize: 324.7 KiB