Package: alabaster Version: 1.7.0 Command: /Library/Frameworks/R.framework/Resources/bin/R CMD INSTALL alabaster StartedAt: 2025-01-31 15:43:14 -0500 (Fri, 31 Jan 2025) EndedAt: 2025-01-31 15:44:14 -0500 (Fri, 31 Jan 2025) EllapsedTime: 59.7 seconds RetCode: 0 Status: OK