Package: alabaster.string Version: 1.7.0 Command: /Library/Frameworks/R.framework/Resources/bin/R CMD build --keep-empty-dirs --no-resave-data alabaster.string StartedAt: 2025-01-31 15:53:48 -0500 (Fri, 31 Jan 2025) EndedAt: 2025-01-31 15:54:07 -0500 (Fri, 31 Jan 2025) EllapsedTime: 19.5 seconds RetCode: 0 Status: OK PackageFile: alabaster.string_1.7.0.tar.gz PackageFileSize: 220.2 KiB