Package: alabaster.string Version: 1.7.0 Command: /home/biocbuild/R/R/bin/R CMD INSTALL alabaster.string StartedAt: 2025-01-29 19:40:26 -0000 (Wed, 29 Jan 2025) EndedAt: 2025-01-29 19:40:40 -0000 (Wed, 29 Jan 2025) EllapsedTime: 14.3 seconds RetCode: 0 Status: OK