Package: alabaster.string Version: 1.7.0 Command: /home/biocbuild/R/R/bin/R CMD check --install=check:alabaster.string.install-out.txt --library=/home/biocbuild/R/R/site-library --no-vignettes --timings alabaster.string_1.7.0.tar.gz StartedAt: 2025-01-28 03:29:42 -0000 (Tue, 28 Jan 2025) EndedAt: 2025-01-28 03:31:20 -0000 (Tue, 28 Jan 2025) EllapsedTime: 97.2 seconds RetCode: 1 Status: ERROR CheckDir: alabaster.string.Rcheck Warnings: NA