Package: alabaster.spatial Version: 1.7.1 Command: E:\biocbuild\bbs-3.21-bioc\R\bin\R.exe CMD INSTALL alabaster.spatial StartedAt: 2025-01-31 16:45:09 -0500 (Fri, 31 Jan 2025) EndedAt: 2025-01-31 16:45:53 -0500 (Fri, 31 Jan 2025) EllapsedTime: 44.4 seconds RetCode: 0 Status: OK