Package: alabaster.spatial Version: 1.7.1 Command: /home/biocbuild/bbs-3.21-bioc/R/bin/R CMD check --install=check:alabaster.spatial.install-out.txt --library=/home/biocbuild/bbs-3.21-bioc/R/site-library --timings alabaster.spatial_1.7.1.tar.gz StartedAt: 2025-01-31 19:58:52 -0500 (Fri, 31 Jan 2025) EndedAt: 2025-01-31 20:02:41 -0500 (Fri, 31 Jan 2025) EllapsedTime: 229.4 seconds RetCode: 0 Status: OK CheckDir: alabaster.spatial.Rcheck Warnings: 0