Package: alabaster.schemas Version: 1.7.0 Command: chmod a+r alabaster.schemas -R && E:\biocbuild\bbs-3.21-bioc\R\bin\R.exe CMD build --keep-empty-dirs --no-resave-data alabaster.schemas StartedAt: 2025-01-31 17:04:45 -0500 (Fri, 31 Jan 2025) EndedAt: 2025-01-31 17:04:55 -0500 (Fri, 31 Jan 2025) EllapsedTime: 10.0 seconds RetCode: 0 Status: OK PackageFile: alabaster.schemas_1.7.0.tar.gz PackageFileSize: 240 KiB