Package: alabaster.files Version: 1.5.0 Command: /home/biocbuild/bbs-3.21-bioc/R/bin/R CMD INSTALL alabaster.files StartedAt: 2025-01-31 15:29:28 -0500 (Fri, 31 Jan 2025) EndedAt: 2025-01-31 15:29:41 -0500 (Fri, 31 Jan 2025) EllapsedTime: 13.5 seconds RetCode: 0 Status: OK