Package: airpart Version: 1.15.0 Command: /Library/Frameworks/R.framework/Resources/bin/R CMD build --keep-empty-dirs --no-resave-data airpart StartedAt: 2025-01-31 15:31:30 -0500 (Fri, 31 Jan 2025) EndedAt: 2025-01-31 15:31:58 -0500 (Fri, 31 Jan 2025) EllapsedTime: 27.3 seconds RetCode: 0 Status: OK PackageFile: airpart_1.15.0.tar.gz PackageFileSize: 1.487 MiB