Package: affycoretools Version: 1.79.0 Command: /home/biocbuild/bbs-3.21-bioc/R/bin/R CMD INSTALL affycoretools StartedAt: 2025-01-31 15:47:51 -0500 (Fri, 31 Jan 2025) EndedAt: 2025-01-31 15:48:50 -0500 (Fri, 31 Jan 2025) EllapsedTime: 59.9 seconds RetCode: 0 Status: OK