Package: affyContam Version: 1.65.0 Command: /home/biocbuild/R/R/bin/R CMD INSTALL affyContam StartedAt: 2025-01-29 19:34:38 -0000 (Wed, 29 Jan 2025) EndedAt: 2025-01-29 19:35:00 -0000 (Wed, 29 Jan 2025) EllapsedTime: 22.4 seconds RetCode: 0 Status: OK