Package: affyContam Version: 1.65.0 Command: /home/biocbuild/R/R/bin/R CMD build --keep-empty-dirs --no-resave-data affyContam StartedAt: 2025-01-29 20:45:58 -0000 (Wed, 29 Jan 2025) EndedAt: 2025-01-29 20:46:15 -0000 (Wed, 29 Jan 2025) EllapsedTime: 17.0 seconds RetCode: 0 Status: OK PackageFile: affyContam_1.65.0.tar.gz PackageFileSize: 498.5 KiB