Package: affxparser Version: 1.79.1 Command: /home/biocbuild/bbs-3.21-bioc/R/bin/R CMD INSTALL affxparser StartedAt: 2025-01-31 15:08:34 -0500 (Fri, 31 Jan 2025) EndedAt: 2025-01-31 15:09:48 -0500 (Fri, 31 Jan 2025) EllapsedTime: 73.8 seconds RetCode: 0 Status: OK