Package: affxparser Version: 1.79.1 Command: /home/biocbuild/bbs-3.21-bioc/R/bin/R CMD check --install=check:affxparser.install-out.txt --library=/home/biocbuild/bbs-3.21-bioc/R/site-library --timings affxparser_1.79.1.tar.gz StartedAt: 2025-01-31 19:55:49 -0500 (Fri, 31 Jan 2025) EndedAt: 2025-01-31 19:56:30 -0500 (Fri, 31 Jan 2025) EllapsedTime: 41.0 seconds RetCode: 0 Status: WARNINGS CheckDir: affxparser.Rcheck Warnings: 2