Package: affxparser Version: 1.79.1 Command: /home/biocbuild/R/R/bin/R CMD build --keep-empty-dirs --no-resave-data affxparser StartedAt: 2025-01-29 20:45:42 -0000 (Wed, 29 Jan 2025) EndedAt: 2025-01-29 20:45:45 -0000 (Wed, 29 Jan 2025) EllapsedTime: 3.0 seconds RetCode: 0 Status: OK PackageFile: affxparser_1.79.1.tar.gz PackageFileSize: 782.8 KiB