Package: aCGH Version: 1.85.0 Command: /Library/Frameworks/R.framework/Resources/bin/R CMD check --install=check:aCGH.install-out.txt --library=/Library/Frameworks/R.framework/Resources/library --no-vignettes --timings aCGH_1.85.0.tar.gz StartedAt: 2025-01-31 18:45:34 -0500 (Fri, 31 Jan 2025) EndedAt: 2025-01-31 18:47:12 -0500 (Fri, 31 Jan 2025) EllapsedTime: 97.6 seconds RetCode: 0 Status: OK CheckDir: aCGH.Rcheck Warnings: 0