Package: a4Preproc Version: 1.55.0 Command: chmod a+r a4Preproc -R && E:\biocbuild\bbs-3.21-bioc\R\bin\R.exe CMD build --keep-empty-dirs --no-resave-data a4Preproc StartedAt: 2025-01-31 17:02:32 -0500 (Fri, 31 Jan 2025) EndedAt: 2025-01-31 17:02:53 -0500 (Fri, 31 Jan 2025) EllapsedTime: 20.8 seconds RetCode: 0 Status: OK PackageFile: a4Preproc_1.55.0.tar.gz PackageFileSize: 288.5 KiB