Package: a4Preproc Version: 1.55.0 Command: /Library/Frameworks/R.framework/Resources/bin/R CMD INSTALL a4Preproc StartedAt: 2025-01-31 15:09:03 -0500 (Fri, 31 Jan 2025) EndedAt: 2025-01-31 15:09:22 -0500 (Fri, 31 Jan 2025) EllapsedTime: 19.5 seconds RetCode: 0 Status: OK