Package: a4Preproc Version: 1.55.0 Command: rm -rf a4Preproc.buildbin-libdir && mkdir a4Preproc.buildbin-libdir && /Users/biocbuild/BBS/utils/build-universal.sh a4Preproc_1.55.0.tar.gz /Library/Frameworks/R.framework/Resources/bin/R a4Preproc.buildbin-libdir StartedAt: 2025-02-01 00:05:52 -0500 (Sat, 01 Feb 2025) EndedAt: 2025-02-01 00:06:02 -0500 (Sat, 01 Feb 2025) EllapsedTime: 9.2 seconds RetCode: 0 Status: OK PackageFile: a4Preproc_1.55.0.tgz PackageFileSize: 296.9 KiB