Package: Xeva Version: 1.23.1 Command: /home/biocbuild/bbs-3.21-bioc/R/bin/R CMD build --keep-empty-dirs --no-resave-data Xeva StartedAt: 2025-01-31 19:47:59 -0500 (Fri, 31 Jan 2025) EndedAt: 2025-01-31 19:48:58 -0500 (Fri, 31 Jan 2025) EllapsedTime: 59.1 seconds RetCode: 0 Status: OK PackageFile: Xeva_1.23.1.tar.gz PackageFileSize: 1.571 MiB