Package: XVector Version: 0.47.2 Command: /home/biocbuild/bbs-3.21-bioc/R/bin/R CMD check --install=check:XVector.install-out.txt --library=/home/biocbuild/bbs-3.21-bioc/R/site-library --timings XVector_0.47.2.tar.gz StartedAt: 2025-02-01 03:43:10 -0500 (Sat, 01 Feb 2025) EndedAt: 2025-02-01 03:44:13 -0500 (Sat, 01 Feb 2025) EllapsedTime: 63.1 seconds RetCode: 0 Status: WARNINGS CheckDir: XVector.Rcheck Warnings: 2