Package: VariantExperiment Version: 1.21.0 Command: /home/biocbuild/R/R/bin/R CMD check --install=check:VariantExperiment.install-out.txt --library=/home/biocbuild/R/R/site-library --no-vignettes --timings VariantExperiment_1.21.0.tar.gz StartedAt: 2025-01-27 13:48:24 -0000 (Mon, 27 Jan 2025) EndedAt: 2025-01-27 13:53:24 -0000 (Mon, 27 Jan 2025) EllapsedTime: 300.6 seconds RetCode: 0 Status: OK CheckDir: VariantExperiment.Rcheck Warnings: 0