############################################################################## ############################################################################## ### ### Running command: ### ### /Library/Frameworks/R.framework/Resources/bin/R CMD build --keep-empty-dirs --no-resave-data VanillaICE ### ############################################################################## ############################################################################## * checking for file ‘VanillaICE/DESCRIPTION’ ... OK * preparing ‘VanillaICE’: * checking DESCRIPTION meta-information ... OK * cleaning src * installing the package to build vignettes ----------------------------------- ERROR: dependency ‘crlmm’ is not available for package ‘VanillaICE’ Perhaps try a variation of: install.packages('crlmm') * removing ‘/private/var/folders/r0/l4fjk6cj5xj0j3brt4bplpl40000gt/T/RtmpWIfUSr/Rinst12c330ec7222/VanillaICE’ ----------------------------------- ERROR: package installation failed