Package: VERSO Version: 1.17.0 Command: rm -rf VERSO.buildbin-libdir && mkdir VERSO.buildbin-libdir && /Users/biocbuild/BBS/utils/build-universal.sh VERSO_1.17.0.tar.gz /Library/Frameworks/R.framework/Resources/bin/R VERSO.buildbin-libdir StartedAt: 2025-01-31 22:36:27 -0500 (Fri, 31 Jan 2025) EndedAt: 2025-01-31 22:36:30 -0500 (Fri, 31 Jan 2025) EllapsedTime: 2.0 seconds RetCode: 0 Status: OK PackageFile: VERSO_1.17.0.tgz PackageFileSize: 665.5 KiB