Package: UCell Version: 2.11.1 Command: /Library/Frameworks/R.framework/Resources/bin/R CMD INSTALL UCell StartedAt: 2025-02-02 15:12:48 -0500 (Sun, 02 Feb 2025) EndedAt: 2025-02-02 15:13:17 -0500 (Sun, 02 Feb 2025) EllapsedTime: 28.9 seconds RetCode: 0 Status: OK