Package: Trendy Version: 1.29.0 Command: /home/biocbuild/bbs-3.21-bioc/R/bin/R CMD check --install=check:Trendy.install-out.txt --library=/home/biocbuild/bbs-3.21-bioc/R/site-library --timings Trendy_1.29.0.tar.gz StartedAt: 2025-02-01 03:25:09 -0500 (Sat, 01 Feb 2025) EndedAt: 2025-02-01 03:28:37 -0500 (Sat, 01 Feb 2025) EllapsedTime: 208.3 seconds RetCode: 0 Status: OK CheckDir: Trendy.Rcheck Warnings: 0