Package: TreeAndLeaf Version: 1.19.0 Command: /home/biocbuild/bbs-3.21-bioc/R/bin/R CMD INSTALL TreeAndLeaf StartedAt: 2025-01-31 15:31:51 -0500 (Fri, 31 Jan 2025) EndedAt: 2025-01-31 15:31:55 -0500 (Fri, 31 Jan 2025) EllapsedTime: 4.0 seconds RetCode: 0 Status: OK